BEGIN:VCALENDAR
VERSION:2.0
PRODID:-//Berkeley Chess School - ECPv5.14.1//NONSGML v1.0//EN
CALSCALE:GREGORIAN
METHOD:PUBLISH
X-WR-CALNAME:Berkeley Chess School
X-ORIGINAL-URL:https://www.berkeleychessschool.org
X-WR-CALDESC:Events for Berkeley Chess School
BEGIN:VTIMEZONE
TZID:America/Los_Angeles
BEGIN:DAYLIGHT
TZOFFSETFROM:-0800
TZOFFSETTO:-0700
TZNAME:PDT
DTSTART:20190310T100000
END:DAYLIGHT
BEGIN:STANDARD
TZOFFSETFROM:-0700
TZOFFSETTO:-0800
TZNAME:PST
DTSTART:20191103T090000
END:STANDARD
END:VTIMEZONE
BEGIN:VEVENT
DTSTART;TZID=America/Los_Angeles:20190525T100000
DTEND;TZID=America/Los_Angeles:20190525T180000
DTSTAMP:20260419T095207
CREATED:20170228T012925Z
LAST-MODIFIED:20190423T184241Z
UID:19258-1558778400-1558807200@www.berkeleychessschool.org
SUMMARY:Berkeley Chess School Team (School) Championship
DESCRIPTION:Sign Up Here!\nAdvance Entries By School here\nIt is time to get your team ready! Recruit (at least) 3 other chess players from your school. The more players you recruit the better your chances are of winning!\nTrophies to the top 10 schools!\nTop 4 players from each of the top 10 schools receive a trophy \nthe School will also receive a Trophy to put on display. \nBest game trophy (As decided by a Berkeley Chess School Master) \nTournament is NOT USCF Rated. USCF membership is not required.\nALL players and schools who are affiliated with Berkeley Chess School are invited.\nIf you live in (San Ramon/Walnut Creek/Fairfield ect..) you will have your own School Championship May 11th!
URL:https://www.berkeleychessschool.org/event/berkeley-area-team-school-championship/
LOCATION:Berkeley Chess School\, 2622 San Pablo Ave\, Berkeley\, 94702\, United States
CATEGORIES:Youth Tournament
ATTACH;FMTTYPE=image/jpeg:https://www.berkeleychessschool.org/wp-content/uploads/2017/01/eventsteam.jpg
END:VEVENT
END:VCALENDAR