BEGIN:VCALENDAR
VERSION:2.0
PRODID:-//Berkeley Chess School - ECPv5.14.1//NONSGML v1.0//EN
CALSCALE:GREGORIAN
METHOD:PUBLISH
X-WR-CALNAME:Berkeley Chess School
X-ORIGINAL-URL:https://www.berkeleychessschool.org
X-WR-CALDESC:Events for Berkeley Chess School
BEGIN:VTIMEZONE
TZID:America/Los_Angeles
BEGIN:DAYLIGHT
TZOFFSETFROM:-0800
TZOFFSETTO:-0700
TZNAME:PDT
DTSTART:20160313T100000
END:DAYLIGHT
BEGIN:STANDARD
TZOFFSETFROM:-0700
TZOFFSETTO:-0800
TZNAME:PST
DTSTART:20161106T090000
END:STANDARD
END:VTIMEZONE
BEGIN:VEVENT
DTSTART;TZID=America/Los_Angeles:20160423T103000
DTEND;TZID=America/Los_Angeles:20160423T123000
DTSTAMP:20260419T124446
CREATED:20160412T225009Z
LAST-MODIFIED:20160412T234423Z
UID:17911-1461407400-1461414600@www.berkeleychessschool.org
SUMMARY:Berkeley Bishops Fischer Random G/10
DESCRIPTION:Berkeley Bishop Fischer Random G/10 tournament\n\n\nlearn more about Fischer random chess (or “chess 960”) here — http://www.chessgames.com/perl/fischerandom\n\n\n\n\nTrophy for the winner\n\n\nPizza will be served after the Tournament!\n\n\nTournament will be Saturday April 23rd from 10:30am -12:30pm\n\n\nRegister Here!
URL:https://www.berkeleychessschool.org/event/berkeley-bishops-fischer-random-g10/
LOCATION:Hillside School\, 1581 Le Roy Ave\, Berkeley\, CA\, 94708\, United States
CATEGORIES:Youth Tournament
ATTACH;FMTTYPE=image/jpeg:https://www.berkeleychessschool.org/wp-content/uploads/2016/04/Chess960_example_init_position.jpg
END:VEVENT
END:VCALENDAR