BEGIN:VCALENDAR
VERSION:2.0
PRODID:-//Berkeley Chess School - ECPv5.14.1//NONSGML v1.0//EN
CALSCALE:GREGORIAN
METHOD:PUBLISH
X-WR-CALNAME:Berkeley Chess School
X-ORIGINAL-URL:https://www.berkeleychessschool.org
X-WR-CALDESC:Events for Berkeley Chess School
BEGIN:VTIMEZONE
TZID:America/Los_Angeles
BEGIN:DAYLIGHT
TZOFFSETFROM:-0800
TZOFFSETTO:-0700
TZNAME:PDT
DTSTART:20200308T100000
END:DAYLIGHT
BEGIN:STANDARD
TZOFFSETFROM:-0700
TZOFFSETTO:-0800
TZNAME:PST
DTSTART:20201101T090000
END:STANDARD
END:VTIMEZONE
BEGIN:VEVENT
DTSTART;TZID=America/Los_Angeles:20200105T130000
DTEND;TZID=America/Los_Angeles:20200105T160000
DTSTAMP:20260419T113044
CREATED:20160224T200634Z
LAST-MODIFIED:20191127T213821Z
UID:17593-1578229200-1578240000@www.berkeleychessschool.org
SUMMARY:Ger Youth Quads
DESCRIPTION:Berkeley Chess School is Proud to Partner with the Ger Youth Center for Ger Youth’s 7th Annual Quads!\nNM Bryon Doyle will be the Chief TD\nPlayers will be divided into groups of 4 by Rating\, if the player has no rating then they will be divided by their Grade.\n1st Place in each Quad will receive a Big First Place Trophy (clear first no Tie)\nIf a Quad has a tie for first place then all players will receive a medium sized Winner Trophy.\nCheck in is at 12:30pm-12:55pm. Please highlight your name\, and check to see what Quad you are in during this time.\nRounds 1pm\, 2pm\, and 3pm.\nTime Control: G/25 with a 5 sec delay \nAll Berkeley Students are encouraged to wear their Berkeley T-shirts (if they have one) during the Quads! \nView our entry form to register! \nNOTICE: Please be aware that we have had registration errors recently on our website. If you attempt to register for a tournament online\, but you receive an error\, or if you do not receive a confirmation email showing that you are registered\, please call our office between 10am-5pm Mon-Fri and we will be happy to sign you up! (510) 843-0150
URL:https://www.berkeleychessschool.org/event/berkeley-spring-quad/
LOCATION:Oakland Asian Cultural Center\, 388 9th St\, Oakland\, CA\, 94607\, United States
ATTACH;FMTTYPE=image/jpeg:https://www.berkeleychessschool.org/wp-content/uploads/2016/04/quad08.jpg
END:VEVENT
END:VCALENDAR