BEGIN:VCALENDAR
VERSION:2.0
PRODID:-//Berkeley Chess School - ECPv5.14.1//NONSGML v1.0//EN
CALSCALE:GREGORIAN
METHOD:PUBLISH
X-WR-CALNAME:Berkeley Chess School
X-ORIGINAL-URL:https://www.berkeleychessschool.org
X-WR-CALDESC:Events for Berkeley Chess School
BEGIN:VTIMEZONE
TZID:America/Los_Angeles
BEGIN:DAYLIGHT
TZOFFSETFROM:-0800
TZOFFSETTO:-0700
TZNAME:PDT
DTSTART:20230312T100000
END:DAYLIGHT
BEGIN:STANDARD
TZOFFSETFROM:-0700
TZOFFSETTO:-0800
TZNAME:PST
DTSTART:20231105T090000
END:STANDARD
END:VTIMEZONE
BEGIN:VEVENT
DTSTART;TZID=America/Los_Angeles:20230708T183000
DTEND;TZID=America/Los_Angeles:20230708T210000
DTSTAMP:20260419T095202
CREATED:20190801T181548Z
LAST-MODIFIED:20230705T170646Z
UID:36835-1688841000-1688850000@www.berkeleychessschool.org
SUMMARY:Blitz with the Masters!
DESCRIPTION:Sign up here!\n  \nAt 6:30pm on Saturday\, July 8\, for an entry fee of $40 Berkeley Chess School is hosting a 7 round open swiss\, 3+2 blitz tournament at our chess center. There is no rating limit for players.\n\nThe following players have already signed up!\n\nGM Sam Shankland rating: 2787\nGM Balaji Daggupati rating: 2571\nGM Joshua Sheng rating: 2531\nIM Josiah Stearman rating: 2460\n\nThey are playing as a fundraiser for BCS . Whoever beats any of these players will get their entry fee returned\, a bucket full of rating points and bragging rights forever.\n  \n  EXPRESS REGISTRATION
URL:https://www.berkeleychessschool.org/event/blitz-with-the-masters/
CATEGORIES:Adult Tournament,Youth Tournament
ATTACH;FMTTYPE=image/jpeg:https://www.berkeleychessschool.org/wp-content/uploads/2022/07/sam.jpg
END:VEVENT
END:VCALENDAR