BEGIN:VCALENDAR
VERSION:2.0
PRODID:-//Berkeley Chess School - ECPv5.14.1//NONSGML v1.0//EN
CALSCALE:GREGORIAN
METHOD:PUBLISH
X-WR-CALNAME:Berkeley Chess School
X-ORIGINAL-URL:https://www.berkeleychessschool.org
X-WR-CALDESC:Events for Berkeley Chess School
BEGIN:VTIMEZONE
TZID:America/Los_Angeles
BEGIN:DAYLIGHT
TZOFFSETFROM:-0800
TZOFFSETTO:-0700
TZNAME:PDT
DTSTART:20250309T100000
END:DAYLIGHT
BEGIN:STANDARD
TZOFFSETFROM:-0700
TZOFFSETTO:-0800
TZNAME:PST
DTSTART:20251102T090000
END:STANDARD
END:VTIMEZONE
BEGIN:VEVENT
DTSTART;TZID=America/Los_Angeles:20251011T130000
DTEND;TZID=America/Los_Angeles:20251011T160000
DTSTAMP:20260419T110316
CREATED:20230424T203229Z
LAST-MODIFIED:20250923T003226Z
UID:64573-1760187600-1760198400@www.berkeleychessschool.org
SUMMARY:Fairfield K-12 Quads
DESCRIPTION:Please Join us for the Fairfield K-12 Quads! First time tournament players will be grouped with other first-timers and experienced tournament players will play with others of similar rating. \n\n3-round Quad tournament\nUSCF-rated event — Current USCF membership is required to participate\nDrop-off welcome as supervision will be provided\nTime control is game in 25 with a 5 second delay\nTrophies awarded to the top players in every quad\, all other players will receive a participation medal.\nEntry fee is $40 if pre-registered (you must register by at least two day’s before the event or $10 late fee added)\n\nBoards\, Sets\, and Clocks will be provided by BCS \nFairfield K-12 Quads October 11th                         EXPRESS REGISTRATION \n  \nFairfield Quad Flyer. October 13\, 2025
URL:https://www.berkeleychessschool.org/event/fairfield-k-12-quads/
LOCATION:K.I. Jones Elementary School\, 2001 Winston Dr\, Fairfield\, CA\, 94534\, United States
CATEGORIES:Youth Tournament
ATTACH;FMTTYPE=image/jpeg:https://www.berkeleychessschool.org/wp-content/uploads/2019/07/IMG_2086-2.jpg
END:VEVENT
END:VCALENDAR