BEGIN:VCALENDAR
VERSION:2.0
PRODID:-//Berkeley Chess School - ECPv5.14.1//NONSGML v1.0//EN
CALSCALE:GREGORIAN
METHOD:PUBLISH
X-WR-CALNAME:Berkeley Chess School
X-ORIGINAL-URL:https://www.berkeleychessschool.org
X-WR-CALDESC:Events for Berkeley Chess School
BEGIN:VTIMEZONE
TZID:America/Los_Angeles
BEGIN:DAYLIGHT
TZOFFSETFROM:-0800
TZOFFSETTO:-0700
TZNAME:PDT
DTSTART:20190310T100000
END:DAYLIGHT
BEGIN:STANDARD
TZOFFSETFROM:-0700
TZOFFSETTO:-0800
TZNAME:PST
DTSTART:20191103T090000
END:STANDARD
END:VTIMEZONE
BEGIN:VEVENT
DTSTART;TZID=America/Los_Angeles:20190815T173000
DTEND;TZID=America/Los_Angeles:20190815T200000
DTSTAMP:20260419T110435
CREATED:20190728T225114Z
LAST-MODIFIED:20190802T042456Z
UID:36715-1565890200-1565899200@www.berkeleychessschool.org
SUMMARY:GM Irina Krush Simul August 15th
DESCRIPTION:  \nSign up Here!\nJoin Grandmaster Irina Krush for a simul exhibition in Berkeley this August!  The Berkeley Chess School is honored to present this rare\, West Coast opportunity for our students and chess aficionados alike to challenge the seven-time\, U.S. Women’s Chess Champion.  Irina has won prestigious international tournaments and was part of the U.S. Women’s Team that took home silver at the 36th Chess Olympiad in 2004.  As first board in the 38th Chess Olympiad\, she led U.S. Women to bronze with a crucial win over the reigning Women’s World Champion.  One of her most outstanding achievements was her gold medal performance in the 2013 Women’s World Team Championship. \n  \nIrina graduated from NYU with a degree in international relations.  Besides being an elite chess player\, she is an author and frequent contributor to Chess Life Magazine\, and has dedicated her talents to nurturing the next generation of players\, especially girls\, through chess classes\, camps\, and simultaneous exhibitions. GM Krush is coming to Berkeley for the simultaneous exhibition and to participate in the Berkeley Chess School’s International Master Norm Tournament. \nEveryone is welcome to participate in or watch the simul. You don’t need to be a titled player to challenge Irina\, just timely!  Spots are filling up fast. Register today! \n  \n                        GM Krush sharing her knowledge with kids/ Credit: AAPS District News \n  \n30 board simul at K-6 Nationals in Nashville \n  \n  \n 
URL:https://www.berkeleychessschool.org/event/gm-irina-krush-simul-august-15h/
LOCATION:Zoom Online\, 2622 San Pablo Ave\, Berkeley\, CA\, 94702\, United States
ATTACH;FMTTYPE=image/jpeg:https://www.berkeleychessschool.org/wp-content/uploads/2019/07/IrinaSimul.jpg
END:VEVENT
END:VCALENDAR