BEGIN:VCALENDAR
VERSION:2.0
PRODID:-//Berkeley Chess School - ECPv5.14.1//NONSGML v1.0//EN
CALSCALE:GREGORIAN
METHOD:PUBLISH
X-WR-CALNAME:Berkeley Chess School
X-ORIGINAL-URL:https://www.berkeleychessschool.org
X-WR-CALDESC:Events for Berkeley Chess School
BEGIN:VTIMEZONE
TZID:America/Los_Angeles
BEGIN:DAYLIGHT
TZOFFSETFROM:-0800
TZOFFSETTO:-0700
TZNAME:PDT
DTSTART:20230312T100000
END:DAYLIGHT
BEGIN:STANDARD
TZOFFSETFROM:-0700
TZOFFSETTO:-0800
TZNAME:PST
DTSTART:20231105T090000
END:STANDARD
BEGIN:DAYLIGHT
TZOFFSETFROM:-0800
TZOFFSETTO:-0700
TZNAME:PDT
DTSTART:20240310T100000
END:DAYLIGHT
BEGIN:STANDARD
TZOFFSETFROM:-0700
TZOFFSETTO:-0800
TZNAME:PST
DTSTART:20241103T090000
END:STANDARD
END:VTIMEZONE
BEGIN:VEVENT
DTSTART;VALUE=DATE:20231226
DTEND;VALUE=DATE:20240106
DTSTAMP:20260419T143802
CREATED:20180411T185017Z
LAST-MODIFIED:20231123T075455Z
UID:27395-1703548800-1704499199@www.berkeleychessschool.org
SUMMARY:BCS Winter Camp 2023
DESCRIPTION: Winter Camp 2023 In person\n2023 BCS Winter Camp (In Person!) now open for registration! \nJoin our fantastic Winter Chess Camp! \nOur Winter camp will be fun\, engaging and challenging! You can meet new friends who share a love of chess while improving your game and learning new strategies. \nOur wonderful Berkeley Chess Center will provide a spacious and airy location for our camp\, with a large playground for lots of outdoor activities (weather permitting). Masks are optional. \nAll campers must have completed kindergarten. All young campers will be accepted on a provisional basis. \nOur experienced staff have ensured a fun and engaging camp atmosphere for over 30 years.\nWe hope you will join us this Winter Holiday!  \nBCS Winter Camp Full Day 9am – 5pm  December 26 to January 5 \nEXPRESS REGISTRATION \nBCS Winter Camp Mornings Only 9am – 1pm In Person \nEXPRESS REGISTRATION \nBCS Winter Camp Afternoons Only 1pm – 5pm In Person \nEXPRESS REGISTRATION \n  \n 
URL:https://www.berkeleychessschool.org/event/grand-opening/
LOCATION:Berkeley Chess School\, 2622 San Pablo Ave\, Berkeley\, 94702\, United States
ATTACH;FMTTYPE=image/jpeg:https://www.berkeleychessschool.org/wp-content/uploads/2017/12/IMG_4230.jpg
END:VEVENT
END:VCALENDAR