BEGIN:VCALENDAR
VERSION:2.0
PRODID:-//Berkeley Chess School - ECPv5.14.1//NONSGML v1.0//EN
CALSCALE:GREGORIAN
METHOD:PUBLISH
X-WR-CALNAME:Berkeley Chess School
X-ORIGINAL-URL:https://www.berkeleychessschool.org
X-WR-CALDESC:Events for Berkeley Chess School
BEGIN:VTIMEZONE
TZID:America/Los_Angeles
BEGIN:DAYLIGHT
TZOFFSETFROM:-0800
TZOFFSETTO:-0700
TZNAME:PDT
DTSTART:20160313T100000
END:DAYLIGHT
BEGIN:STANDARD
TZOFFSETFROM:-0700
TZOFFSETTO:-0800
TZNAME:PST
DTSTART:20161106T090000
END:STANDARD
END:VTIMEZONE
BEGIN:VEVENT
DTSTART;TZID=America/Los_Angeles:20160612T110000
DTEND;TZID=America/Los_Angeles:20160612T183000
DTSTAMP:20260419T112203
CREATED:20160517T235417Z
LAST-MODIFIED:20160524T194633Z
UID:18144-1465729200-1465756200@www.berkeleychessschool.org
SUMMARY:June G/45
DESCRIPTION:An Adult Swiss Style Tournament with Cash Prizes.\nThis tournament is suitable for all Adults and Children with USCF ratings of over 1\,000.\nRound Times: 11 am\, 1 pm\, 2:45 pm\, and 4:30 pm. 4 rounds total\nRated Blitz starts at 6:30 pm ($10 extra) \nRegister here!
URL:https://www.berkeleychessschool.org/event/june-g45/
LOCATION:Hillside School\, 1581 Le Roy Ave\, Berkeley\, CA\, 94708\, United States
CATEGORIES:Adult Tournament
ATTACH;FMTTYPE=image/jpeg:https://www.berkeleychessschool.org/wp-content/uploads/2016/04/chessbrown.jpg
END:VEVENT
END:VCALENDAR