BEGIN:VCALENDAR
VERSION:2.0
PRODID:-//Berkeley Chess School - ECPv5.14.1//NONSGML v1.0//EN
CALSCALE:GREGORIAN
METHOD:PUBLISH
X-WR-CALNAME:Berkeley Chess School
X-ORIGINAL-URL:https://www.berkeleychessschool.org
X-WR-CALDESC:Events for Berkeley Chess School
BEGIN:VTIMEZONE
TZID:America/Los_Angeles
BEGIN:DAYLIGHT
TZOFFSETFROM:-0800
TZOFFSETTO:-0700
TZNAME:PDT
DTSTART:20190310T100000
END:DAYLIGHT
BEGIN:STANDARD
TZOFFSETFROM:-0700
TZOFFSETTO:-0800
TZNAME:PST
DTSTART:20191103T090000
END:STANDARD
END:VTIMEZONE
BEGIN:VEVENT
DTSTART;VALUE=DATE:20190503
DTEND;VALUE=DATE:20190506
DTSTAMP:20260419T110357
CREATED:20180409T173833Z
LAST-MODIFIED:20190405T230922Z
UID:27302-1556841600-1557100799@www.berkeleychessschool.org
SUMMARY:Women's Western States Regional
DESCRIPTION:2018 Western State Champions WIM Megan Lee\, and NM Rochelle Wu.\nSign up here!\nIF REGISTERING FROM OUTSIDE NORTHERN CALIFORNIA- There is no need to register through our website\, your entry is free. Please email us to manually register you: tournaments@berkeleychessschool.org  \n  \nFIDE rated 5 round Swiss Style Tournament with $2\,000 Prize Fund! \n3 DAY SCHEDULE: \nG/90 30 Second Increment \nFriday: 7:20pm \nSaturday: 11:00am & 4:00pm \nSunday: 11:00am & 4:00pm \n2 DAY SCHEDULE: \nRounds 1 & 2 G/60 5 sec delay \nSaturday: 11:00am\, 1:30pm\, 4:00pm (merges with 3 day schedule for 3rd round) \nSunday: 11:00am & 4:00pm \nWFM\, WIM\, WGM Free Entry! (Entry fee deducted from winnings)
URL:https://www.berkeleychessschool.org/event/multi-state-womans-regional-championship/
LOCATION:Berkeley Chess School\, 2622 San Pablo Ave\, Berkeley\, 94702\, United States
CATEGORIES:Adult Tournament
ATTACH;FMTTYPE=image/jpeg:https://www.berkeleychessschool.org/wp-content/uploads/2018/04/champions.jpg
END:VEVENT
END:VCALENDAR