BEGIN:VCALENDAR
VERSION:2.0
PRODID:-//Berkeley Chess School - ECPv5.14.1//NONSGML v1.0//EN
CALSCALE:GREGORIAN
METHOD:PUBLISH
X-WR-CALNAME:Berkeley Chess School
X-ORIGINAL-URL:https://www.berkeleychessschool.org
X-WR-CALDESC:Events for Berkeley Chess School
BEGIN:VTIMEZONE
TZID:America/Los_Angeles
BEGIN:DAYLIGHT
TZOFFSETFROM:-0800
TZOFFSETTO:-0700
TZNAME:PDT
DTSTART:20240310T100000
END:DAYLIGHT
BEGIN:STANDARD
TZOFFSETFROM:-0700
TZOFFSETTO:-0800
TZNAME:PST
DTSTART:20241103T090000
END:STANDARD
END:VTIMEZONE
BEGIN:VEVENT
DTSTART;TZID=America/Los_Angeles:20241207T130000
DTEND;TZID=America/Los_Angeles:20241207T160000
DTSTAMP:20260419T094352
CREATED:20160808T214422Z
LAST-MODIFIED:20241104T192024Z
UID:18531-1733576400-1733587200@www.berkeleychessschool.org
SUMMARY:San Ramon Quads
DESCRIPTION: Hand Sanitizer will be offered.  No food in the Tournament hall.\nK-12 Tournament\nAll Players will be put into groups of 4 by rating\, or\, if no rating\, then divided by Grade.\nPlay only those in your Group.\nFirst place in each Group will Receive a Trophy.\nParticipation Medals for everyone Else.\n3 rounds Total. Rounds are from 1pm – 4pm.\nAll Tournament players must be USCF members. \nBoards\, Sets\, and Clocks will be provided by BCS \nSan Ramon Quads December 7th                                EXPRESS REGISTRATION \n  \n 
URL:https://www.berkeleychessschool.org/event/san-ramon-quad-2/
LOCATION:Country Club Elementary School\, 7534 Blue Fox Way\, San Ramon\, 94583\, United States
CATEGORIES:Youth Tournament
ATTACH;FMTTYPE=image/jpeg:https://www.berkeleychessschool.org/wp-content/uploads/2019/07/IMG_2090-1.jpg
END:VEVENT
END:VCALENDAR