BEGIN:VCALENDAR
VERSION:2.0
PRODID:-//Berkeley Chess School - ECPv5.14.1//NONSGML v1.0//EN
CALSCALE:GREGORIAN
METHOD:PUBLISH
X-WR-CALNAME:Berkeley Chess School
X-ORIGINAL-URL:https://www.berkeleychessschool.org
X-WR-CALDESC:Events for Berkeley Chess School
BEGIN:VTIMEZONE
TZID:America/Los_Angeles
BEGIN:DAYLIGHT
TZOFFSETFROM:-0800
TZOFFSETTO:-0700
TZNAME:PDT
DTSTART:20170312T100000
END:DAYLIGHT
BEGIN:STANDARD
TZOFFSETFROM:-0700
TZOFFSETTO:-0800
TZNAME:PST
DTSTART:20171105T090000
END:STANDARD
END:VTIMEZONE
BEGIN:VEVENT
DTSTART;TZID=America/Los_Angeles:20171119T130000
DTEND;TZID=America/Los_Angeles:20171119T160000
DTSTAMP:20260419T105818
CREATED:20160614T233131Z
LAST-MODIFIED:20171109T223921Z
UID:18224-1511096400-1511107200@www.berkeleychessschool.org
SUMMARY:Girls Quad
DESCRIPTION:Girls K-12 Tournament\nAll Players will be broken into groups of 4 by rating\, or if no rating then divided by Grade!\nPlay only those in your Group.\nFirst place in each Group will Receive a Trophy.\nParticipation Medals for everyone Else.\n3 rounds Total\nRounds are from 1pm – 4pm.\nAll Tournament players must be USCF members.\n\nClick here to register!
URL:https://www.berkeleychessschool.org/event/san-ramon-quad/
LOCATION:Zoom Online\, 2622 San Pablo Ave\, Berkeley\, CA\, 94702\, United States
CATEGORIES:Youth Tournament
ATTACH;FMTTYPE=image/jpeg:https://www.berkeleychessschool.org/wp-content/uploads/2016/10/girlsteamphoto8-1.jpg
END:VEVENT
END:VCALENDAR