BEGIN:VCALENDAR
VERSION:2.0
PRODID:-//Berkeley Chess School - ECPv5.14.1//NONSGML v1.0//EN
CALSCALE:GREGORIAN
METHOD:PUBLISH
X-WR-CALNAME:Berkeley Chess School
X-ORIGINAL-URL:https://www.berkeleychessschool.org
X-WR-CALDESC:Events for Berkeley Chess School
BEGIN:VTIMEZONE
TZID:America/Los_Angeles
BEGIN:DAYLIGHT
TZOFFSETFROM:-0800
TZOFFSETTO:-0700
TZNAME:PDT
DTSTART:20190310T100000
END:DAYLIGHT
BEGIN:STANDARD
TZOFFSETFROM:-0700
TZOFFSETTO:-0800
TZNAME:PST
DTSTART:20191103T090000
END:STANDARD
END:VTIMEZONE
BEGIN:VEVENT
DTSTART;TZID=America/Los_Angeles:20190810T130000
DTEND;TZID=America/Los_Angeles:20190810T170000
DTSTAMP:20260419T092702
CREATED:20160614T232342Z
LAST-MODIFIED:20190707T063418Z
UID:18223-1565442000-1565456400@www.berkeleychessschool.org
SUMMARY:Summer Swiss Tournament
DESCRIPTION:Summer Swiss Tournament! (K-12 Tournament)\n3 sections!\n\nUnder 400\, Under 800\, and 800+\n\n\nPlay only those in your section.\nTop 5 places in each section will Receive a Trophy\, Participation Medals for everyone Else.\n4 rounds Total\n\nRounds are from 1pm – 5pm. August 10th\n\n\nAll Tournament players must be USCF members.\n\nClick here to register!
URL:https://www.berkeleychessschool.org/event/summer-swiss-tournament/
LOCATION:Zoom Online\, 2622 San Pablo Ave\, Berkeley\, CA\, 94702\, United States
CATEGORIES:Youth Tournament
ATTACH;FMTTYPE=image/jpeg:https://www.berkeleychessschool.org/wp-content/uploads/2019/02/image3-1.jpg
END:VEVENT
END:VCALENDAR