BEGIN:VCALENDAR
VERSION:2.0
PRODID:-//Berkeley Chess School - ECPv5.14.1//NONSGML v1.0//EN
CALSCALE:GREGORIAN
METHOD:PUBLISH
X-WR-CALNAME:Berkeley Chess School
X-ORIGINAL-URL:https://www.berkeleychessschool.org
X-WR-CALDESC:Events for Berkeley Chess School
BEGIN:VTIMEZONE
TZID:America/Los_Angeles
BEGIN:DAYLIGHT
TZOFFSETFROM:-0800
TZOFFSETTO:-0700
TZNAME:PDT
DTSTART:20260308T100000
END:DAYLIGHT
BEGIN:STANDARD
TZOFFSETFROM:-0700
TZOFFSETTO:-0800
TZNAME:PST
DTSTART:20261101T090000
END:STANDARD
END:VTIMEZONE
BEGIN:VEVENT
DTSTART;TZID=America/Los_Angeles:20260509T130000
DTEND;TZID=America/Los_Angeles:20260613T153000
DTSTAMP:20260419T062136
CREATED:20251122T080921Z
LAST-MODIFIED:20260412T202419Z
UID:67501-1778331600-1781364600@www.berkeleychessschool.org
SUMMARY:Walnut Creek K-12 Quads
DESCRIPTION:Please Join us for the Walnut Creek K-12 Quads! First time tournament players will be grouped with other first-timers and experienced tournament players will play with others of similar rating. \n\n3-round Quad tournament\nUSCF-rated event — Current USCF membership is required to participate\nDrop-off welcome as supervision will be provided\nTime control is game in 25 with a 5 second delay\nTrophies awarded to the top players in every quad\, all other players will receive a participation medal.\nEntry fee is $40 if pre-registered or $50 the day of the event (you must register at least 30 minutes before the event)\n\nBoards\, Sets\, and Clocks will be provided by BCS \nWalnut Creek K-12 Quads May 9th                       EXPRESS REGISTRATION \nWalnut Creek K-12 Quads June 13th                    EXPRESS REGISTRATION \n 
URL:https://www.berkeleychessschool.org/event/walnut-creek-k-12-quads/
LOCATION:Grace Presbyterian Church\, 2100 Tice Valley Blvd\, Walnut Creek\, CA\, 94595\, United States
CATEGORIES:Youth Tournament
ATTACH;FMTTYPE=image/jpeg:https://www.berkeleychessschool.org/wp-content/uploads/2025/11/feature.jpg
END:VEVENT
END:VCALENDAR